BEGIN:VCALENDAR
VERSION:2.0
PRODID:icalendar-ruby
CALSCALE:GREGORIAN
METHOD:PUBLISH
BEGIN:VEVENT
DTSTAMP:20260423T050241Z
UID:47-447011@pegramchurchofchrist.org
DTSTART:20261008T013000Z
DTEND:20261008T024500Z
CLASS:PUBLIC
CREATED:20260422T200720
DESCRIPTION:The PCOC Kids Club is for kids 2 years through 6th grade! This 
 program will focus on Bible stories about men and women of courage\, Scrip
 ture memorization\, and FUN! We want all our kids to bring friends and lea
 rn with their PCOC Kids friends about how to LOVE God and His word! \nReg
 ister below for the program and a PCOC Kids tshirt and other personalized 
 goodies that will help them learn and grow! 
LAST-MODIFIED:20260422T200720
LOCATION:Pegram Church of Christ 
SUMMARY:PCOC Kids Club
URL;VALUE=URI:https://www.pegramchurchofchrist.org/events/pcoc-kids-club/20
 26-10-07
ATTACH;FILENAME=PCOCKidsClub2.png;FMTTYPE=image/png:https://dq5pwpg1q8ru0.c
 loudfront.net/2025/09/30/12/27/45/72c220e9-eb2d-477e-aaaf-cd4de98381ae/PCO
 CKidsClub2.png
END:VEVENT
END:VCALENDAR
